BEGIN:VCALENDAR
VERSION:2.0
PRODID:-//Koninklijke Yachting Club De Panne - ECPv6.15.13.1//NONSGML v1.0//EN
CALSCALE:GREGORIAN
METHOD:PUBLISH
X-WR-CALNAME:Koninklijke Yachting Club De Panne
X-ORIGINAL-URL:https://kycdp.be
X-WR-CALDESC:Events voor Koninklijke Yachting Club De Panne
REFRESH-INTERVAL;VALUE=DURATION:PT1H
X-Robots-Tag:noindex
X-PUBLISHED-TTL:PT1H
BEGIN:VTIMEZONE
TZID:Europe/Paris
BEGIN:DAYLIGHT
TZOFFSETFROM:+0100
TZOFFSETTO:+0200
TZNAME:CEST
DTSTART:20220327T010000
END:DAYLIGHT
BEGIN:STANDARD
TZOFFSETFROM:+0200
TZOFFSETTO:+0100
TZNAME:CET
DTSTART:20221030T010000
END:STANDARD
BEGIN:DAYLIGHT
TZOFFSETFROM:+0100
TZOFFSETTO:+0200
TZNAME:CEST
DTSTART:20230326T010000
END:DAYLIGHT
BEGIN:STANDARD
TZOFFSETFROM:+0200
TZOFFSETTO:+0100
TZNAME:CET
DTSTART:20231029T010000
END:STANDARD
BEGIN:DAYLIGHT
TZOFFSETFROM:+0100
TZOFFSETTO:+0200
TZNAME:CEST
DTSTART:20240331T010000
END:DAYLIGHT
BEGIN:STANDARD
TZOFFSETFROM:+0200
TZOFFSETTO:+0100
TZNAME:CET
DTSTART:20241027T010000
END:STANDARD
END:VTIMEZONE
BEGIN:VEVENT
DTSTART;VALUE=DATE:20230506
DTEND;VALUE=DATE:20230507
DTSTAMP:20260424T144110
CREATED:20230211T150504Z
LAST-MODIFIED:20230503T122624Z
UID:601-1683331200-1683417599@kycdp.be
SUMMARY:Tweede wedstrijd van het clubkampioenschap
DESCRIPTION:Wedstrijduren: 09u-15u \nupdate van Hans dd. 2 mei  Hallo iedereen\, \n  \nHier een weersupdate voor zaterdag/zondag 6 en 7 mei.  Veel is er niet veranderd met de vorige mail. \n  \n\nZaterdag 6 mei : Het wordt een dag met wolken en opklaringen.  Max. temperatuur is warm voor de tijd van het jaar = 19 graden.\n\nDe wind  waait zwak tot matig  3 bft uit Zuid-Oost.  Golven 40 cm .   In de latere namiddag een lichte zeebries 3 bft uit Noordelijke richting.  Golven 50 cm. \nHet blijft er dus heel goed uitzien voor zaterdag 6 mei. \n  \n\nZondag 7 mei : Het wordt een bewolkte dag met kans op wat gedruppel maar tussendoor ook opklaringen .  Daarna verschijnen er meer en meer opklaringen.\n\nMax. temperatuur = 14 graden.   Er staat een zwakke tot matige wind uit  Zuid-Oost 3 bft\, in de loop van de voormiddag ruimend naar \nWest 3 bft.  Golven = 30 cm in de namiddag 50 cm. \n  \nMorgenavond volgt nog een korte update. \n  \nGroeten\, \nHans \n  \n  \nLEVE DE KAMPIOEN\, LEVE KYCDP\, \n  \nVang ze\, \nHans \n 
URL:https://kycdp.be/event/tweede-wedstrijd-van-het-clubkampioenschap/
LOCATION:clublokaal\, Bortierplein\, De Panne\, 8660\, Belgium
ATTACH;FMTTYPE=image/jpeg:https://kycdp.be/wp-content/uploads/2023/02/foto-2de-wedstrijd.jpg
END:VEVENT
BEGIN:VEVENT
DTSTART;VALUE=DATE:20230429
DTEND;VALUE=DATE:20230430
DTSTAMP:20260424T144110
CREATED:20230305T125836Z
LAST-MODIFIED:20230322T211056Z
UID:642-1682726400-1682812799@kycdp.be
SUMMARY:Darts namiddag
DESCRIPTION:Start: 14u\nMaximale inschrijvingen: tot 20 personen\, leden hebben voorrang\nInschrijvingsgeld: 5€ (je bent pas ingeschreven na betaling van inschrijvingsgeld op rekeningnr. Pannevissers)\nUITNODIGING DARTS NAMIDDAG OP ZATERDAG 29 APRIL 2023
URL:https://kycdp.be/event/dart-namiddag/
LOCATION:clublokaal\, Bortierplein\, De Panne\, 8660\, Belgium
ATTACH;FMTTYPE=image/jpeg:https://kycdp.be/wp-content/uploads/2023/03/dart-.jpg
END:VEVENT
END:VCALENDAR