BEGIN:VCALENDAR
VERSION:2.0
PRODID:-//Koninklijke Yachting Club De Panne - ECPv6.15.13.1//NONSGML v1.0//EN
CALSCALE:GREGORIAN
METHOD:PUBLISH
X-WR-CALNAME:Koninklijke Yachting Club De Panne
X-ORIGINAL-URL:https://kycdp.be
X-WR-CALDESC:Events voor Koninklijke Yachting Club De Panne
REFRESH-INTERVAL;VALUE=DURATION:PT1H
X-Robots-Tag:noindex
X-PUBLISHED-TTL:PT1H
BEGIN:VTIMEZONE
TZID:Europe/Paris
BEGIN:DAYLIGHT
TZOFFSETFROM:+0100
TZOFFSETTO:+0200
TZNAME:CEST
DTSTART:20250330T010000
END:DAYLIGHT
BEGIN:STANDARD
TZOFFSETFROM:+0200
TZOFFSETTO:+0100
TZNAME:CET
DTSTART:20251026T010000
END:STANDARD
BEGIN:DAYLIGHT
TZOFFSETFROM:+0100
TZOFFSETTO:+0200
TZNAME:CEST
DTSTART:20260329T010000
END:DAYLIGHT
BEGIN:STANDARD
TZOFFSETFROM:+0200
TZOFFSETTO:+0100
TZNAME:CET
DTSTART:20261025T010000
END:STANDARD
BEGIN:DAYLIGHT
TZOFFSETFROM:+0100
TZOFFSETTO:+0200
TZNAME:CEST
DTSTART:20270328T010000
END:DAYLIGHT
BEGIN:STANDARD
TZOFFSETFROM:+0200
TZOFFSETTO:+0100
TZNAME:CET
DTSTART:20271031T010000
END:STANDARD
END:VTIMEZONE
BEGIN:VEVENT
DTSTART;TZID=Europe/Paris:20260101T080000
DTEND;TZID=Europe/Paris:20260101T170000
DTSTAMP:20260420T081057
CREATED:20260101T092048Z
LAST-MODIFIED:20260101T092048Z
UID:1343-1767254400-1767286800@kycdp.be
SUMMARY:Nieuwjaar 2026 - gelukwensen vanwege het bestuur
DESCRIPTION:
URL:https://kycdp.be/event/nieuwjaar-2026-gelukwensen-vanwege-het-bestuur/
END:VEVENT
BEGIN:VEVENT
DTSTART;TZID=Europe/Paris:20260101T080000
DTEND;TZID=Europe/Paris:20260104T230000
DTSTAMP:20260420T081057
CREATED:20260101T092436Z
LAST-MODIFIED:20260101T092436Z
UID:1345-1767254400-1767567600@kycdp.be
SUMMARY:Uitnodiging Nieuwjaarsdrink op kerstmarkt
DESCRIPTION:Beste clubleden en sympathisanten\, \n  \n  \n  \n  \n  \n  \n  \n  \n  \n  \n  \n  \n  \n  \n  \nGraag ook speciale AANDACHT voor zaterdag 3 januari 😊:GRATIS DRANKJE VAN DE GEMEENTE DE PANNE. \nOp die dag vindt op het kerstdorp de Nieuwjaarsdrink plaats voor de inwoners  van De Panne We verwachten een grote opkomst! \nTussen 18.30u en 19.30u worden er bonnetjes uitgedeeld aan de ingang van het kerstdorp (2 x 2\,5 €). Die bonnetjes mogen heel de avond gebruikt worden. \n  \nDus een extra -reden om zeker nog eens af te zakken naar ons kerstkotje op één van de komende vier resterende dagen! \n  \nWELKOM! \n  \nHartelijke groet\, \n  \nBestuur KYCDP
URL:https://kycdp.be/event/uitnodiging-nieuwjaarsdrink-op-kerstmarkt/
LOCATION:Marktplein\, Zeelaan\, De Panne
END:VEVENT
BEGIN:VEVENT
DTSTART;TZID=Europe/Paris:20260127T183000
DTEND;TZID=Europe/Paris:20260127T230000
DTSTAMP:20260420T081057
CREATED:20260121T185138Z
LAST-MODIFIED:20260121T185138Z
UID:1352-1769538600-1769554800@kycdp.be
SUMMARY:Bestuursvergadering
DESCRIPTION:
URL:https://kycdp.be/event/bestuursvergadering-4/
END:VEVENT
BEGIN:VEVENT
DTSTART;TZID=Europe/Paris:20260213T190000
DTEND;TZID=Europe/Paris:20260213T220000
DTSTAMP:20260420T081057
CREATED:20251124T183027Z
LAST-MODIFIED:20260115T204717Z
UID:1328-1771009200-1771020000@kycdp.be
SUMMARY:Clubledenvergadering
DESCRIPTION:  \nNa een zeer geslaagde kerstmarkt loopt de winter op zijn einde zodat het tijd wordt om terug eens samen te komen.  Het bestuur heeft er alvast weer zin in! \nDaarom nodigen we je van harte uit op de jaarlijkse algemene clubledenvergadering in ons clublokaal. \nDeze gaat door op vrijdag 13 februari aanstaande om 19.30u. Onthaal vanaf 19u. \nHet is de ideale plaats om je mening te zeggen\, voorstellen te doen\, kortom het perfecte moment voor INSPRAAK EN OVERLEG. \nAls je nu al bepaalde voorstellingen of bemerkingen hebt\, mag je ze zeker al aan (bij voorkeur) secretaris Filip of iemand van het bestuur bezorgen\, zodat we het punt met plezier gaan toevoegen aan de agenda. \nEr zijn in de loop van de avond belegde broodjes voorzien\, en ook enkele gratis drankjes natuurlijk. \n  \nVOORLOPIGE AGENDA \n\nVerwelkoming\nVerslag 2025\nLidgeld & tracties 2026\nKalender 2026 – verdeling van de getijdenboekjes\nVoorstellen en vragen van de clubleden\nVaria / rondvraag\n\n  \nEr is na de vergadering mogelijkheid om je tracties 2025 en lidgeld 2026 cash te betalen. \n  \nHet bestuur KYCDP
URL:https://kycdp.be/event/clubledenvergadering/
LOCATION:clublokaal\, Bortierplein\, De Panne\, 8660\, Belgium
ORGANIZER;CN="KYCDP":MAILTO:info@KYCDP.be
END:VEVENT
BEGIN:VEVENT
DTSTART;TZID=Europe/Paris:20260221T133000
DTEND;TZID=Europe/Paris:20260221T220000
DTSTAMP:20260420T081057
CREATED:20251202T123131Z
LAST-MODIFIED:20260207T073934Z
UID:1336-1771680600-1771711200@kycdp.be
SUMMARY:Eerste dartstornooi van 2026  VOLZET
DESCRIPTION:  \n 
URL:https://kycdp.be/event/eerste-dartstornooi-van-2026/
LOCATION:clublokaal\, Bortierplein\, De Panne\, 8660\, Belgium
ORGANIZER;CN="KYCDP":MAILTO:info@KYCDP.be
END:VEVENT
BEGIN:VEVENT
DTSTART;TZID=Europe/Paris:20260307T180000
DTEND;TZID=Europe/Paris:20260307T235900
DTSTAMP:20260420T081057
CREATED:20260217T175308Z
LAST-MODIFIED:20260217T175559Z
UID:1376-1772906400-1772927940@kycdp.be
SUMMARY:Dankfeestje kerstdorp 2025 - 2026
DESCRIPTION:Uitnodiging dankfeestje kerstdorp 2025/2026 \nWanneer: Zaterdag 07 maart vanaf 18u00 \nWaar: Clublokaal aan de Rampe. \nTijdens de jaarwisseling stond onze vereniging terug als vaste waarde in het kerstdorp van De Panne. De opbrengst hiervan dient om de kosten van KYCDP te helpen dragen. \nHet bestuur is iedereen heel erg dankbaar die meehielp in de Chalet en nodigt hen dan ook graag uit voor het  jaarlijks dankfeestje. \nDit jaar gaan we voor: \n*Aperitief \n*Vlaamse stoverijen met kroketten en salad bar. \n( alternatief vol au vent ) \n*Koffie \n  \nMedewerkers chalet Kycdp : gratis \nSympathisanten 15euro. \nInschrijven voor 04 maart via: info@Kycdp.be \nMet vermelding aantal personen en keuze hoofdschotel \nOf telefonisch Delaere Patrick 0486/442218 \nBetaling op rek nr BE30 2800 4979 7211
URL:https://kycdp.be/event/dankfeestje-kerstdorp-2025-2026/
LOCATION:clublokaal\, Bortierplein\, De Panne\, 8660\, Belgium
ORGANIZER;CN="KYCDP":MAILTO:info@KYCDP.be
END:VEVENT
BEGIN:VEVENT
DTSTART;TZID=Europe/Paris:20260328T080000
DTEND;TZID=Europe/Paris:20260328T170000
DTSTAMP:20260420T081057
CREATED:20260217T175908Z
LAST-MODIFIED:20260217T175923Z
UID:1378-1774684800-1774717200@kycdp.be
SUMMARY:Deelname aan zwerfvuilophaalactie
DESCRIPTION:
URL:https://kycdp.be/event/deelname-aan-zwerfvuilophaalactie/
LOCATION:De Rampe
ORGANIZER;CN="KYCDP":MAILTO:info@KYCDP.be
END:VEVENT
BEGIN:VEVENT
DTSTART;TZID=Europe/Paris:20260418T090000
DTEND;TZID=Europe/Paris:20260418T150000
DTSTAMP:20260420T081057
CREATED:20260217T180042Z
LAST-MODIFIED:20260416T134539Z
UID:1379-1776502800-1776524400@kycdp.be
SUMMARY:Eerste wedstrijd van het clubkampioenschap - UPDATE WOE 16 APRIL
DESCRIPTION:UPDATE \n  \nHallo iedereen\, \n  \n  \nDe viswedstrijd van zaterdag 18 april gaat door. \n  \nHier de weersupdate voor zaterdag 18 april. \n  \nIn de voormiddag bewolkt met kans op een paar druppels regen\, in de namiddag brede opklaringen met zelfs vanaf 16 u volop zon.  Max t° op zee = 12 °C \nDe wind waait zwak rondlopend van ZW over W naar NW 1 tot max 3-4 bft.  Variabele wind staat gelijk aan weinig wind.  Golven tussen 30 cm tot 50 cm op de vloed. \n  \nDe jaren vliegen voorbij.  Ondertussen bestaat onze club reeds 54 jaar.  Wil je onze club in zijn vergrijzing blijven ondersteunen en helpen in de verjonging…  dan mag je niet twijfelen. \nKom zaterdag zeker af voor een spannende viswedstrijd onder onze talrijke clubleden. \n  \nHierbij nodigt het bestuur iedereen graag uit tot de EERSTE wedstrijd voor het clubkampioenschap 2026 op zaterdag 18 APRIL aanstaande. \nDe inschrijvingen gebeuren vanaf 7u. Verse koffie en lekkere boterkoeken staan voor jullie klaar. De deelnameprijs is 7 € per persoon; drankje en broodje na de wedstrijd inbegrepen. \nWe trekken vanaf 8u. vanop het strand in zee en verzamelen met de boten op 200 m van de laagwaterlijn.  Vertrek om 9u. stipt naar onze visstek op het signaal van de wedstrijdverantwoordelijke Hans of voorzitter Johan\, en stoppen met vissen om 15u. op het FLUITSIGNAAL van wedstrijdverantwoordelijke Hans (of vervanger). \nWe vragen met aandrang dat alle deelnemers tegen 8u50 ten laatste in zee op de startplaats te liggen. \nWe vragen aan de deelnemers om tegen ten laatste 8 uur in te schrijven in het clublokaal. \nWe herhalen onze vraag aan elke deelnemende booteigenaar om zowel voor als na de wedstrijd een bemanningslid te laten meehelpen bij het aan- en loskoppelen van de trailers op het strand. Dit zorgt ervoor dat alles veel vlotter verloopt en is minder belastend voor het beperkt aantal tractorchauffeurs. \n  \nEven nog deze afspraak (zie clubreglement) opfrissen zodat er dit seizoen geen misverstanden zijn: \n\nEr wordt gevist binnen het gebied afgebakend door de Trapegeer en de vier grenspunten d.w.z. binnen de denkbeeldige rechte lijn vertrekkende van de bovengenoemde boeien tot op de rug van de bank naar het strand toe.\nDe boten liggen in elkaars gezichtsveld.\nIndien de wedstrijd in “het Potje” doorgaat wordt er gevist tussen de aangebrachte boeien en het strand.\n\nWe houden jullie op de hoogte via de clubwebsite\, mail en sms. Wie geen sms en/of mail ontvangt\, laat dit snel weten aan iemand van het bestuur zodat we uw gegevens kunnen registreren. \nWanneer de wedstrijd niet kan doorgaan wordt deze uitgesteld naar zondag 16 november. \nTip: zorg allen dat je vaartuig volledig in orde is met de wettelijke voorschriften. De boetes zijn niet mals\, en we verwachten zeker controles dit seizoen. Vermeld ook op je trailer je P-nummer aub. \nEr is gratis parkeergelegenheid op het Bortierplein\, aanpalend aan de Rampe\, en eventueel in de aanpalende straten op voorwaarde dat er op een duidelijk zichtbare plaats aan de voorruit van de wagen een parkeerkaart 2025 (!) van de club ligt. Vraag gerust zulke kaart aan het bestuur in het clublokaal de dag zelf. De organisatie zal nooit retributiebonnen terugbetalen. \nDE CLUB IS NIET VERANTWOORDELIJK VOOR GEBEURLIJKE ONGEVALLEN EN DIEFSTALLEN. \n  \nHet bestuur hoopt jullie massaal te mogen verwelkomen op deze laatste wedstrijd zodat we de competitie zo spannend mogelijk kunnen maken! Veel succes! \n 
URL:https://kycdp.be/event/eerste-wedstrijd-van-het-clubkampioenschap-3/
LOCATION:De Rampe
ORGANIZER;CN="KYCDP":MAILTO:info@KYCDP.be
END:VEVENT
BEGIN:VEVENT
DTSTART;TZID=Europe/Paris:20260516T090000
DTEND;TZID=Europe/Paris:20260516T150000
DTSTAMP:20260420T081057
CREATED:20260217T180216Z
LAST-MODIFIED:20260217T180216Z
UID:1380-1778922000-1778943600@kycdp.be
SUMMARY:Tweede wedstrijd van het clubkampioenschap 2026
DESCRIPTION:
URL:https://kycdp.be/event/tweede-wedstrijd-van-het-clubkampioenschap-2026/
LOCATION:De Rampe
ORGANIZER;CN="KYCDP":MAILTO:info@KYCDP.be
END:VEVENT
END:VCALENDAR