BEGIN:VCALENDAR
VERSION:2.0
PRODID:-//Koninklijke Yachting Club De Panne - ECPv6.15.13.1//NONSGML v1.0//EN
CALSCALE:GREGORIAN
METHOD:PUBLISH
X-WR-CALNAME:Koninklijke Yachting Club De Panne
X-ORIGINAL-URL:https://kycdp.be
X-WR-CALDESC:Events voor Koninklijke Yachting Club De Panne
REFRESH-INTERVAL;VALUE=DURATION:PT1H
X-Robots-Tag:noindex
X-PUBLISHED-TTL:PT1H
BEGIN:VTIMEZONE
TZID:Europe/Paris
BEGIN:DAYLIGHT
TZOFFSETFROM:+0100
TZOFFSETTO:+0200
TZNAME:CEST
DTSTART:20230326T010000
END:DAYLIGHT
BEGIN:STANDARD
TZOFFSETFROM:+0200
TZOFFSETTO:+0100
TZNAME:CET
DTSTART:20231029T010000
END:STANDARD
BEGIN:DAYLIGHT
TZOFFSETFROM:+0100
TZOFFSETTO:+0200
TZNAME:CEST
DTSTART:20240331T010000
END:DAYLIGHT
BEGIN:STANDARD
TZOFFSETFROM:+0200
TZOFFSETTO:+0100
TZNAME:CET
DTSTART:20241027T010000
END:STANDARD
BEGIN:DAYLIGHT
TZOFFSETFROM:+0100
TZOFFSETTO:+0200
TZNAME:CEST
DTSTART:20250330T010000
END:DAYLIGHT
BEGIN:STANDARD
TZOFFSETFROM:+0200
TZOFFSETTO:+0100
TZNAME:CET
DTSTART:20251026T010000
END:STANDARD
END:VTIMEZONE
BEGIN:VEVENT
DTSTART;VALUE=DATE:20240413
DTEND;VALUE=DATE:20240414
DTSTAMP:20260423T175207
CREATED:20240211T110713Z
LAST-MODIFIED:20240411T141150Z
UID:840-1712966400-1713052799@kycdp.be
SUMMARY:Eerste wedstrijd van het clubkampioenschap UPDATE 11 APRIL
DESCRIPTION:update van wedstrijdverantwoordelijke Hans dd. 11 april \nHallo iedereen\, \nWedstrijd gaat door nu zaterdag 13 april.  Het wordt een bijna zomerse dag met zon en een warm weer – max. t° = 18 graden op zee. \nWeersverwachting  zaterdag 13 april : We krijgen een warme lentedag met max t° = 20 graden op het strand.\nDe wind waait  matig 3 à 4 bft uit ZW met golven =  50 cm. \nWe vissen heel de wedstrijd op laagwater.  De zee zal er rustig bijliggen. \nAlvast iedereen hartelijk welkom tijdens en na de wedstrijd. \nMen zegge het voort en tot zaterdag\, \nHans \nDe vangsten bestaan momenteel uit wijting\, schar\, bot en hier en daar een pladijs. \nOok de eerste zeebaarzen komen stilletjes onder de kust. \n 
URL:https://kycdp.be/event/eerste-wedstrijd-van-het-clubkampioenschap-2/
LOCATION:De Rampe
END:VEVENT
END:VCALENDAR