BEGIN:VCALENDAR
VERSION:2.0
PRODID:-//Koninklijke Yachting Club De Panne - ECPv6.15.13.1//NONSGML v1.0//EN
CALSCALE:GREGORIAN
METHOD:PUBLISH
X-ORIGINAL-URL:https://kycdp.be
X-WR-CALDESC:Events voor Koninklijke Yachting Club De Panne
REFRESH-INTERVAL;VALUE=DURATION:PT1H
X-Robots-Tag:noindex
X-PUBLISHED-TTL:PT1H
BEGIN:VTIMEZONE
TZID:Europe/Paris
BEGIN:DAYLIGHT
TZOFFSETFROM:+0100
TZOFFSETTO:+0200
TZNAME:CEST
DTSTART:20230326T010000
END:DAYLIGHT
BEGIN:STANDARD
TZOFFSETFROM:+0200
TZOFFSETTO:+0100
TZNAME:CET
DTSTART:20231029T010000
END:STANDARD
BEGIN:DAYLIGHT
TZOFFSETFROM:+0100
TZOFFSETTO:+0200
TZNAME:CEST
DTSTART:20240331T010000
END:DAYLIGHT
BEGIN:STANDARD
TZOFFSETFROM:+0200
TZOFFSETTO:+0100
TZNAME:CET
DTSTART:20241027T010000
END:STANDARD
BEGIN:DAYLIGHT
TZOFFSETFROM:+0100
TZOFFSETTO:+0200
TZNAME:CEST
DTSTART:20250330T010000
END:DAYLIGHT
BEGIN:STANDARD
TZOFFSETFROM:+0200
TZOFFSETTO:+0100
TZNAME:CET
DTSTART:20251026T010000
END:STANDARD
END:VTIMEZONE
BEGIN:VEVENT
DTSTART;TZID=Europe/Paris:20240901T100000
DTEND;TZID=Europe/Paris:20240901T160000
DTSTAMP:20260423T093949
CREATED:20240822T071528Z
LAST-MODIFIED:20250628T143710Z
UID:984-1725184800-1725206400@kycdp.be
SUMMARY:VRIJE WEDSTRIJD
DESCRIPTION:Beste leden en sympathisanten\, \nGraag nodigen wij jullie uit op de vrije wedstrijd op zaterdag 23 augustus van 9u. tot 15u.  De inschrijvingen (7 €/persoon) gebeuren vanaf 7u. in ons clublokaal.  Een heerlijk koffietje  staat op je te wachten 😊. \nGelieve aandachtig het reglement te lezen want deze verschilt grondig van de andere wedstrijden. \nReglement \n  \n\nEr wordt gevist met maximaal 6 hengels en 3 haken per hengel.   De visstek is vrij te kiezen.   Hou wel rekening met het feit dat in Frankrijk max. 12 haken zijn toegelaten.\nAlleen het gewicht van de vis telt voor het klassement\, deze wedstrijd telt niet mee voor het clubkampioenschap.\nAlle vissen moeten voldoen aan de wettelijke minimummaat; vissen die niet vermeld staan op de lijst minimummaten moeten voldoen aan de clubmaat = 20 cm.\nEr  mag met alle soorten aas gevist worden; ook kunstaas is toegelaten. Een pudder is verboden op straffe van declassering.\nEr mogen maximum 2 zeebaarzen per persoon meegenomen worden met een minimum lengte van 42 cm.\nMakreel\, horsmakreel (!) en pieterman tellen niet mee en mogen niet bij de weging aangeboden worden.\nWe verzamelen een 100-tal meter voor de laagwaterlijn en vertrekken om 9 uur NA het signaal van de wedstrijdverantwoordelijke. Ten laatste om 15u. ligt men terug aan de waterlijn met de boot.\nEen belegd broodje en een drankje is voorzien voor elke opvarende.
URL:https://kycdp.be/event/vrije-wedstrijd-nieuwe-datum/
LOCATION:De Rampe
ORGANIZER;CN="KYCDP":MAILTO:info@KYCDP.be
END:VEVENT
BEGIN:VEVENT
DTSTART;TZID=Europe/Paris:20240921T140000
DTEND;TZID=Europe/Paris:20240921T163000
DTSTAMP:20260423T093949
CREATED:20240211T114457Z
LAST-MODIFIED:20240829T211008Z
UID:855-1726927200-1726936200@kycdp.be
SUMMARY:EHBO cursus
DESCRIPTION:De opleiding gaat door in ons clublokaal van 14u stipt tot 16.30u. Het wordt een praktische les\, met veel concrete voorbeelden\, demonstraties en oefeningen. Zeer interessant! \nOnthaal vanaf 13.30u. \nlesgever: Waldo Buys (clublid\, ervaren beroepsduiker\, gediplomeerd lesgever) \nInschrijven: voor woensdag 18 september via mail aan info@kycdp.be. \nGatis drankje aangeboden door de club. \nEr is gratis parkeermogelijkheid mits correct gebruik van de KYCDP-parkeerkaart 2024.
URL:https://kycdp.be/event/ehbo-datum-volgt-nog/
LOCATION:clublokaal\, Bortierplein\, De Panne\, 8660\, Belgium
ORGANIZER;CN="KYCDP":MAILTO:info@KYCDP.be
END:VEVENT
END:VCALENDAR