BEGIN:VCALENDAR
VERSION:2.0
PRODID:-//Koninklijke Yachting Club De Panne - ECPv6.15.13.1//NONSGML v1.0//EN
CALSCALE:GREGORIAN
METHOD:PUBLISH
X-WR-CALNAME:Koninklijke Yachting Club De Panne
X-ORIGINAL-URL:https://kycdp.be
X-WR-CALDESC:Events voor Koninklijke Yachting Club De Panne
REFRESH-INTERVAL;VALUE=DURATION:PT1H
X-Robots-Tag:noindex
X-PUBLISHED-TTL:PT1H
BEGIN:VTIMEZONE
TZID:Europe/Paris
BEGIN:DAYLIGHT
TZOFFSETFROM:+0100
TZOFFSETTO:+0200
TZNAME:CEST
DTSTART:20230326T010000
END:DAYLIGHT
BEGIN:STANDARD
TZOFFSETFROM:+0200
TZOFFSETTO:+0100
TZNAME:CET
DTSTART:20231029T010000
END:STANDARD
BEGIN:DAYLIGHT
TZOFFSETFROM:+0100
TZOFFSETTO:+0200
TZNAME:CEST
DTSTART:20240331T010000
END:DAYLIGHT
BEGIN:STANDARD
TZOFFSETFROM:+0200
TZOFFSETTO:+0100
TZNAME:CET
DTSTART:20241027T010000
END:STANDARD
BEGIN:DAYLIGHT
TZOFFSETFROM:+0100
TZOFFSETTO:+0200
TZNAME:CEST
DTSTART:20250330T010000
END:DAYLIGHT
BEGIN:STANDARD
TZOFFSETFROM:+0200
TZOFFSETTO:+0100
TZNAME:CET
DTSTART:20251026T010000
END:STANDARD
BEGIN:DAYLIGHT
TZOFFSETFROM:+0100
TZOFFSETTO:+0200
TZNAME:CEST
DTSTART:20260329T010000
END:DAYLIGHT
BEGIN:STANDARD
TZOFFSETFROM:+0200
TZOFFSETTO:+0100
TZNAME:CET
DTSTART:20261025T010000
END:STANDARD
END:VTIMEZONE
BEGIN:VEVENT
DTSTART;VALUE=DATE:20241214
DTEND;VALUE=DATE:20250106
DTSTAMP:20260423T014832
CREATED:20240211T111742Z
LAST-MODIFIED:20241219T221531Z
UID:851-1734134400-1736121599@kycdp.be
SUMMARY:Kerstdorp De Panne van 14/12/24 tot 05/01/25
DESCRIPTION:Beste Pannevissers en clubvrienden en sympathisanten\, \n  \nMorgen vrijdag 20 december is de officiële start van de kerstvakantie. Een ideaal moment om jullie allemaal warm te maken voor het gezelligste kerstdorp van de Westhoek\, in De Panne natuurlijk! \n  \nZoals vermeld op de gemeentelijke website https://www.depanne.be/nl/kerstdorp-2024-2025: \n“Tijdens de gezelligste periode van het jaar werd de Markt van De Panne weer omgetoverd in een feeëriek tafereel met een sfeervol programma. Kom wandelen tussen sparren en dennen of geniet gezellig met vrienden aan de chalets met hapjes en drankjes. De geur van harshout\, glühwein en het gefonkel van honderden lichtjes maken de ervaring compleet. Haal die schaatsen maar van onder het stof!  \nNa al dat dansen en zingen tijdens de toffe thema-avonden kan je vast wel wat verfrissing gebruiken! Of misschien wil je opwarmen na een rondje op de schaatsbaan? In de kerstchalets wacht een dampende chocomelk\, een pittige jenever of een fris pintje op je. Samen met vrienden en familie is het altijd gezellig. Kom erbij!” \n  \n  \nNatuurlijk staat ook onze club paraat 😊. We zijn al een weekje aan het opwarmen (bedankt voor die medewerkers!) maar tot en met zondag 5 januari staan onze clubmedewerkers  elke dag vanaf 14 uur paraat om jullie gastvrij te ontvangen in onze sfeervol versierde kerstchalet. \n  \nOnderaan dit bericht zie je welke animatie er is gepland\, welke openingsuren er zijn\, en welke toffe medewerkers zich vrijwillig hebben aangemeld om het beste van zichtzelf te geven. \n  \nWe vragen u slechts één iets: geef ook het beste van jezelf en kom zeker onze chalet bezoeken met uw vrienden en familie. Spreek eventueel af met elkaar\, met je visvrienden. Dergelijk bezoek is super motiverend voor wie “achter de toog” staat. Daarmee toon je ook je waardering voor je clubvriend/vriendin die in de chalet staat en -even belangrijk – steun je natuurlijk onze clubkas. \n           En je weet het: élke eurocent dat binnenkomt wordt integraal herbenuttigd via tussenkomsten in het souper\, wedstrijdprijzen\, een toffe polo en zo veel meer. \nHebben we een deal? \n  \nAlvast bedankt voor je bezoek en sympathie. \nHet bestuur wenst jullie en jullie familie van harte een vredevolle Kersttijd toe en straks een Zalig Kerstfeest. \nVan harte\, \nBestuur KYCDP \n  \nprogramma en bezetting van de chalet:       kerstkotje 24-25.xlsx
URL:https://kycdp.be/event/deelname-kerstmarkt-de-panne/
LOCATION:Marktplein\, Zeelaan\, De Panne
END:VEVENT
END:VCALENDAR