BEGIN:VCALENDAR
VERSION:2.0
PRODID:-//Koninklijke Yachting Club De Panne - ECPv6.15.13.1//NONSGML v1.0//EN
CALSCALE:GREGORIAN
METHOD:PUBLISH
X-WR-CALNAME:Koninklijke Yachting Club De Panne
X-ORIGINAL-URL:https://kycdp.be
X-WR-CALDESC:Events voor Koninklijke Yachting Club De Panne
REFRESH-INTERVAL;VALUE=DURATION:PT1H
X-Robots-Tag:noindex
X-PUBLISHED-TTL:PT1H
BEGIN:VTIMEZONE
TZID:Europe/Paris
BEGIN:DAYLIGHT
TZOFFSETFROM:+0100
TZOFFSETTO:+0200
TZNAME:CEST
DTSTART:20240331T010000
END:DAYLIGHT
BEGIN:STANDARD
TZOFFSETFROM:+0200
TZOFFSETTO:+0100
TZNAME:CET
DTSTART:20241027T010000
END:STANDARD
BEGIN:DAYLIGHT
TZOFFSETFROM:+0100
TZOFFSETTO:+0200
TZNAME:CEST
DTSTART:20250330T010000
END:DAYLIGHT
BEGIN:STANDARD
TZOFFSETFROM:+0200
TZOFFSETTO:+0100
TZNAME:CET
DTSTART:20251026T010000
END:STANDARD
BEGIN:DAYLIGHT
TZOFFSETFROM:+0100
TZOFFSETTO:+0200
TZNAME:CEST
DTSTART:20260329T010000
END:DAYLIGHT
BEGIN:STANDARD
TZOFFSETFROM:+0200
TZOFFSETTO:+0100
TZNAME:CET
DTSTART:20261025T010000
END:STANDARD
END:VTIMEZONE
BEGIN:VEVENT
DTSTART;TZID=Europe/Paris:20250412T090000
DTEND;TZID=Europe/Paris:20250412T150000
DTSTAMP:20260422T195443
CREATED:20250305T155049Z
LAST-MODIFIED:20250410T085319Z
UID:1107-1744448400-1744470000@kycdp.be
SUMMARY:Eerste wedstrijd van het clubkampioenschap 2025 update van wedstrijdverantwoordelijke Hans dd 9 april
DESCRIPTION:Hallo iedereen\, \n  \nHier een weersupdate voor komend weekend : \n  \n\nZaterdag 12 april  :  Het wordt een overwegend zonnige en uiterst warme dag voor de tijd van het jaar dag met  max. temperaturen 21 graden.  Er waait een matige wind 3-4 bft uit Zuid-Oostelijke richting\n\nmet golven van 40 later 50 cm \n\nZondag 13 april :  Meer bewolking met hier en wat regen in de voormiddag.  De wind waait matig tot vrij krachtig  4 a 5 bft uit het ZW.   Golven 70 cm in de namiddag oplopend naar 1 meter.\n\n  \nBesluit : de wedstrijd gaat door op zaterdag 12 april. \nVang ze\, \nHans \n  \nGraag nodigt het bestuur iedereen uit tot de EERSTE wedstrijd voor het clubkampioenschap 2025 op zaterdag 12 april aanstaande. \nDe inschrijvingen gebeuren vanaf 7u. Verse koffie en lekkere boterkoeken staan voor jullie klaar. De deelnameprijs is 7 € per persoon; drankje en broodje na de wedstrijd inbegrepen. \nWe trekken vanaf 8u. vanop het strand in zee en verzamelen met de boten op 200 m van de laagwaterlijn.  Vertrek om 9u. naar onze visstek op het signaal van de wedstrijdverantwoordelijke Hans of voorzitter Johan\, en stoppen met vissen om 15u. op het signaal van een wedstrijdcommissaris. \nEven nog deze afspraak (zie clubreglement) opfrissen zodat er dit seizoen geen misverstanden zijn: \n\nEr wordt gevist binnen het gebied afgebakend door de Trapegeer en de coördinaten van de vier grenspunten. Elke deelnemer aan de wedstrijd wordt geacht deze coördinaten te kennen. Deze zullen tijdig aan iedereen worden gecommuniceerd.\nbinnen het gebied afgebakend door de Trapegeer en de aangebrachte boeien.\nbinnen de denkbeeldige rechte lijn vertrekkende van de bovengenoemde boeien tot op de rug van de bank naar het strand toe\nDe boten liggen in elkaars gezichtsveld.\nIndien de wedstrijd in “het Potje” doorgaat wordt er gevist tussen de aangebrachte boeien en het strand.\n\nWe houden jullie op de hoogte via de clubwebsite\, mail en sms. Wie geen sms en/of mail ontvangt\, laat dit snel weten aan iemand van het bestuur zodat we uw gegevens kunnen registreren. \nWanneer de wedstrijd niet kan doorgaan wordt deze uitgesteld naar zondag 13 april\, het weekend van 20 april\, of zo nodig van 27 april. \nHet spreekt voor zich dat leden enkel kunnen deelnemen aan de wedstrijd als het lidgeld 2025 en de tracties 2024 correct werden betaald. \nTip: zorg allen dat je vaartuig volledig in orde is met de wettelijke voorschriften. De boetes zijn niet mals\, en we verwachten zeker controles dit seizoen. \nHet bestuur hoopt jullie massaal te mogen verwelkomen op deze eerste wedstrijd zodat we de competitie zo spannend mogelijk kunnen maken! Veel succes! \n 
URL:https://kycdp.be/event/eerste-wedstrijd-van-het-clubkampioenschap-2025/
LOCATION:De Rampe
ORGANIZER;CN="KYCDP":MAILTO:info@KYCDP.be
END:VEVENT
END:VCALENDAR