BEGIN:VCALENDAR
VERSION:2.0
PRODID:-//Koninklijke Yachting Club De Panne - ECPv6.15.13.1//NONSGML v1.0//EN
CALSCALE:GREGORIAN
METHOD:PUBLISH
X-ORIGINAL-URL:https://kycdp.be
X-WR-CALDESC:Events voor Koninklijke Yachting Club De Panne
REFRESH-INTERVAL;VALUE=DURATION:PT1H
X-Robots-Tag:noindex
X-PUBLISHED-TTL:PT1H
BEGIN:VTIMEZONE
TZID:Europe/Paris
BEGIN:DAYLIGHT
TZOFFSETFROM:+0100
TZOFFSETTO:+0200
TZNAME:CEST
DTSTART:20240331T010000
END:DAYLIGHT
BEGIN:STANDARD
TZOFFSETFROM:+0200
TZOFFSETTO:+0100
TZNAME:CET
DTSTART:20241027T010000
END:STANDARD
BEGIN:DAYLIGHT
TZOFFSETFROM:+0100
TZOFFSETTO:+0200
TZNAME:CEST
DTSTART:20250330T010000
END:DAYLIGHT
BEGIN:STANDARD
TZOFFSETFROM:+0200
TZOFFSETTO:+0100
TZNAME:CET
DTSTART:20251026T010000
END:STANDARD
BEGIN:DAYLIGHT
TZOFFSETFROM:+0100
TZOFFSETTO:+0200
TZNAME:CEST
DTSTART:20260329T010000
END:DAYLIGHT
BEGIN:STANDARD
TZOFFSETFROM:+0200
TZOFFSETTO:+0100
TZNAME:CET
DTSTART:20261025T010000
END:STANDARD
END:VTIMEZONE
BEGIN:VEVENT
DTSTART;TZID=Europe/Paris:20250531T090000
DTEND;TZID=Europe/Paris:20250531T150000
DTSTAMP:20260422T181608
CREATED:20250305T155211Z
LAST-MODIFIED:20250528T210536Z
UID:1108-1748682000-1748703600@kycdp.be
SUMMARY:Tweede wedstrijd van het clubkampioenschap 2025 - update van wedstrijdverantwoordelijke Hans dd. woe 28 mei
DESCRIPTION:Hallo iedereen\, \n  \nHier de weersupdate voor komend weekend : \n  \n\nZaterdag 31 mei : We krijgen een heel zonnige start van de dag met weinig wind.  In de namiddag wat hoge sluierbewolking. Max temp = 21 gr\n\n  op het strand.  Er waait een zwakke wind uit Z  1-2 bft in de voormiddag\,  draaiend naar W/NW na de middag 2-3  bft.  Golven 30 cm de hele dag door.   \n  \n\nZondag 1 juni :    We krijgen een afwisseling van zon en wolken.  Max. temp. = 20  gr.  Er waait een matige wind 3 tot 4 bft uit WZW.  Golven 60 cm oplopend naar 70 cm in de namiddag.\n\n  \nDe weersvoorspellingen maken het ons gemakkelijk.  De wedstrijd gaat door op zaterdag 31 mei.   De roep van de zee\, het strand in een zomerse sfeer is daar terug.  Als je de roep van de zee \nook voelt\, dan kom je af met de boot en moet je er zaterdag zeker bij zijn.  Succes met de voorbereidingen en tot zaterdag. \n  \nLeve De Panne\, leve de kampioen\, \n  \nGroeten\, \nHans \n  \n  \nNa een spannende eerste wedstrijd met een mooi deelnemersveld en een verrassende uitslag\, nodigt het bestuur iedereen graag uit tot de tweede wedstrijd voor het clubkampioenschap 2025 op zaterdag 31 mei aanstaande. \nDe inschrijvingen gebeuren vanaf 7u. Verse koffie en lekkere boterkoeken staan voor jullie klaar. De deelnameprijs is 7 € per persoon; drankje en broodje na de wedstrijd inbegrepen. \nWe trekken vanaf 8u. vanop het strand in zee en verzamelen met de boten op 200 m van de laagwaterlijn.  Vertrek om 9u. stipt naar onze visstek op het signaal van de wedstrijdverantwoordelijke Hans of voorzitter Johan\, en stoppen met vissen om 15u. op het FLUITSIGNAAL van wedstrijdverantwoordelijke Hans (of vervanger). \nTIP: ga op tijd in zee\, zodat je “mee bent”\, als de vloot om 9 uur naar de visgronden vertrekt 🙂 . \nEven nog deze afspraak (zie clubreglement) opfrissen zodat er dit seizoen geen misverstanden zijn: \n\nEr wordt gevist binnen het gebied afgebakend door de Trapegeer en de vier grenspunten d.w.z. binnen de denkbeeldige rechte lijn vertrekkende van de bovengenoemde boeien tot op de rug van de bank naar het strand toe.\nDe boten liggen in elkaars gezichtsveld.\nIndien de wedstrijd in “het Potje” doorgaat wordt er gevist tussen de aangebrachte boeien en het strand.\n\nWe houden jullie op de hoogte via de clubwebsite\, mail en sms. Wie geen sms en/of mail ontvangt\, laat dit snel weten aan iemand van het bestuur zodat we uw gegevens kunnen registreren. \nWanneer de wedstrijd niet kan doorgaan wordt deze uitgesteld naar zondag 25 mei\, het weekend van 31 mei\, of zo nodig van 7 juni. \nHet spreekt voor zich dat leden enkel kunnen deelnemen aan de wedstrijd als het lidgeld 2025 en de tracties 2024 correct werden betaald. \nTip: zorg allen dat je vaartuig volledig in orde is met de wettelijke voorschriften. De boetes zijn niet mals\, en we verwachten zeker controles dit seizoen. Vermeld ook op je trailer je P-nummer aub. \nHet bestuur hoopt jullie massaal te mogen verwelkomen op deze tweede wedstrijd zodat we de competitie zo spannend mogelijk kunnen maken! Veel succes! \n \n  \n 
URL:https://kycdp.be/event/tweede-wedstrijd-van-het-clubkampioenschap-2025/
LOCATION:De Rampe
ORGANIZER;CN="KYCDP":MAILTO:info@KYCDP.be
END:VEVENT
END:VCALENDAR