BEGIN:VCALENDAR
VERSION:2.0
PRODID:-//Koninklijke Yachting Club De Panne - ECPv6.15.13.1//NONSGML v1.0//EN
CALSCALE:GREGORIAN
METHOD:PUBLISH
X-ORIGINAL-URL:https://kycdp.be
X-WR-CALDESC:Events voor Koninklijke Yachting Club De Panne
REFRESH-INTERVAL;VALUE=DURATION:PT1H
X-Robots-Tag:noindex
X-PUBLISHED-TTL:PT1H
BEGIN:VTIMEZONE
TZID:Europe/Paris
BEGIN:DAYLIGHT
TZOFFSETFROM:+0100
TZOFFSETTO:+0200
TZNAME:CEST
DTSTART:20240331T010000
END:DAYLIGHT
BEGIN:STANDARD
TZOFFSETFROM:+0200
TZOFFSETTO:+0100
TZNAME:CET
DTSTART:20241027T010000
END:STANDARD
BEGIN:DAYLIGHT
TZOFFSETFROM:+0100
TZOFFSETTO:+0200
TZNAME:CEST
DTSTART:20250330T010000
END:DAYLIGHT
BEGIN:STANDARD
TZOFFSETFROM:+0200
TZOFFSETTO:+0100
TZNAME:CET
DTSTART:20251026T010000
END:STANDARD
BEGIN:DAYLIGHT
TZOFFSETFROM:+0100
TZOFFSETTO:+0200
TZNAME:CEST
DTSTART:20260329T010000
END:DAYLIGHT
BEGIN:STANDARD
TZOFFSETFROM:+0200
TZOFFSETTO:+0100
TZNAME:CET
DTSTART:20261025T010000
END:STANDARD
END:VTIMEZONE
BEGIN:VEVENT
DTSTART;TZID=Europe/Paris:20250701T190000
DTEND;TZID=Europe/Paris:20250701T220000
DTSTAMP:20260422T142854
CREATED:20250105T191648Z
LAST-MODIFIED:20250628T142025Z
UID:1084-1751396400-1751407200@kycdp.be
SUMMARY:Bestuursvergadering
DESCRIPTION:
URL:https://kycdp.be/event/bestuursvergadering-2/
LOCATION:clublokaal\, Bortierplein\, De Panne\, 8660\, Belgium
ORGANIZER;CN="KYCDP":MAILTO:info@KYCDP.be
END:VEVENT
BEGIN:VEVENT
DTSTART;TZID=Europe/Paris:20250712T080000
DTEND;TZID=Europe/Paris:20250712T170000
DTSTAMP:20260422T142854
CREATED:20250305T155307Z
LAST-MODIFIED:20250628T141948Z
UID:1109-1752307200-1752339600@kycdp.be
SUMMARY:Mosselfestijn
DESCRIPTION:mosselfestijn affiche 2025 betere resolutie 
URL:https://kycdp.be/event/mosselfestijn-2/
LOCATION:De Rampe
ORGANIZER;CN="KYCDP":MAILTO:info@KYCDP.be
END:VEVENT
BEGIN:VEVENT
DTSTART;TZID=Europe/Paris:20250726T083000
DTEND;TZID=Europe/Paris:20250726T130000
DTSTAMP:20260422T142854
CREATED:20250305T155428Z
LAST-MODIFIED:20250725T191913Z
UID:1110-1753518600-1753534800@kycdp.be
SUMMARY:Makreelwedstrijd - update wedstrijdverantwoordelijke Hans dd 25 juli
DESCRIPTION:2 \nHallo iedereen\, \n  \nZoals de meesten al doorkregen via sms\, de wedstijd gaat morgen zaterdag door. \nNog een paar aandachtspunten : \n  \n\nWe vertrekken samen vanop de laagwaterlijn  om 8U30 en iedereen is terug op de laagwaterlijn om 13u !  Dus in zee gaa vanaf 07.30u zodat tegen 08.15u iedereen klaar ligt om te vertrekken.\nDe minimummaat voor makreel = 30 cm   Een ondermaatse makreel aangeboden = min een 0.5 kg op het totaal gewicht van je vangst\nDe vis moet gegut aangeboden worden.\nEr wordt met 2 hengels per boot gevist.  Het aantal opvarenden is onbeperkt.\n\n  \nVolledig reglement hieronder.  Succes alvast. \n  \n  \nDag  iedereen\, \nJullie zijn van harte welkom op de makreelwedstrijd op zaterdag 26 juli van 8.30u tot 13u (dus een half uurtje langer dan vorige jaren).  De inschrijvingen (7 €/persoon) gebeuren van 7 u. tot 8 u.  aan onze loodsen.  Een heerlijk koffietje staat op je te wachten 😊. \nGelieve aandachtig het reglement te lezen want deze verschilt grondig van de andere wedstrijden. \nReglement \n\nAantal medevarenden is onbeperkt.\n2 visklare hengels per boot\, het aantal pluimen is onbeperkt.\nDe makreel heeft de minimum maat van 30 cm en wordt gegut aangeboden op de weging. Staarten worden NIET samengedrukt.\nAlleen het totaalgewicht van de vangst wordt in rekening gebracht. Horsmakreel telt niet mee.\nWe verzamelen een 100-tal meter voor de laagwaterlijn en vertrekken om 8u30u NA het signaal van wedstrijdverantwoordelijke Hans.\nTen laatste om 13u. ligt men terug aan de waterlijn met de boot.\nEen belegd broodje en een drankje is voorzien voor elke opvarende\, af te halen VOOR de wedstrijd.\n\nDe weging gebeurt direct na de wedstrijd zodat alle booteigenaars hun boten en vangsten huiswaarts kunnen nemen. \nDe prijsuitreiking met waardebonnen van onze sponsors gebeurt rond 18.30u tijdens de aperitief. \nAandacht: ook als de wedstrijd niet kan doorgaan\, gaat de BBQ in elk geval door (zie aparte uitnodiging). Aperitief 18 uur\, maaltijd 19 uur. \nDe wedstrijd wordt in dat geval uitgesteld tot de zaterdag of zondag nadien. \n 
URL:https://kycdp.be/event/makreelwedstrijd-3/
LOCATION:De Rampe
ORGANIZER;CN="KYCDP":MAILTO:info@KYCDP.be
END:VEVENT
BEGIN:VEVENT
DTSTART;TZID=Europe/Paris:20250726T180000
DTEND;TZID=Europe/Paris:20250727T000000
DTSTAMP:20260422T142854
CREATED:20250711T181757Z
LAST-MODIFIED:20250711T182328Z
UID:1183-1753552800-1753574400@kycdp.be
SUMMARY:Jaarlijkse Barbecue KYCDP
DESCRIPTION:Uitnodiging jaarlijkse BBQ KYCDP zaterdag 26/07/25. (aansluitend op de makreelwedstrijd van 08u30 tot 13u00\, zie afzonderlijke uitnodiging) \n  \n \nLocatie: clublokaal vanaf 18u00. \n\nBBQ\, groentebuffet met pasta\, brood\, aardappel in de pel.\n\nVolw: Chateau briand\, kipsaté\, BBQ worst: 22 euro\nVeggie: 2 veggie burgers\, 2 veggie worsten: 22 euro\nKids (tot 12j) BBQ worst + kipsaté of veggie burger + veggieworst:12 euro\n\n\n\n\nVoor de leden : aperitief aangeboden door het bestuur.\n\nInschrijven VOOR 22 juli door overschrijving op rek nr BE30 2800 4979 7211 met vermelding naam\, aantal en voorkeur.  \nWe hopen op mooi weer en een talrijke opkomst! \nPs: bij eventuele afgelasting wedstrijd gaat de BBQ toch door. \nMuzikale ambiance : DJ Bruno \nMeer info: Walter Peelman 0478/214395 of Delaere Patrick 0486/442218
URL:https://kycdp.be/event/jaarlijkse-barbecue-kycdp/
LOCATION:De Rampe
ORGANIZER;CN="KYCDP":MAILTO:info@KYCDP.be
END:VEVENT
END:VCALENDAR