BEGIN:VCALENDAR
VERSION:2.0
PRODID:-//Koninklijke Yachting Club De Panne - ECPv6.15.13.1//NONSGML v1.0//EN
CALSCALE:GREGORIAN
METHOD:PUBLISH
X-WR-CALNAME:Koninklijke Yachting Club De Panne
X-ORIGINAL-URL:https://kycdp.be
X-WR-CALDESC:Events voor Koninklijke Yachting Club De Panne
REFRESH-INTERVAL;VALUE=DURATION:PT1H
X-Robots-Tag:noindex
X-PUBLISHED-TTL:PT1H
BEGIN:VTIMEZONE
TZID:Europe/Paris
BEGIN:DAYLIGHT
TZOFFSETFROM:+0100
TZOFFSETTO:+0200
TZNAME:CEST
DTSTART:20240331T010000
END:DAYLIGHT
BEGIN:STANDARD
TZOFFSETFROM:+0200
TZOFFSETTO:+0100
TZNAME:CET
DTSTART:20241027T010000
END:STANDARD
BEGIN:DAYLIGHT
TZOFFSETFROM:+0100
TZOFFSETTO:+0200
TZNAME:CEST
DTSTART:20250330T010000
END:DAYLIGHT
BEGIN:STANDARD
TZOFFSETFROM:+0200
TZOFFSETTO:+0100
TZNAME:CET
DTSTART:20251026T010000
END:STANDARD
BEGIN:DAYLIGHT
TZOFFSETFROM:+0100
TZOFFSETTO:+0200
TZNAME:CEST
DTSTART:20260329T010000
END:DAYLIGHT
BEGIN:STANDARD
TZOFFSETFROM:+0200
TZOFFSETTO:+0100
TZNAME:CET
DTSTART:20261025T010000
END:STANDARD
END:VTIMEZONE
BEGIN:VEVENT
DTSTART;TZID=Europe/Paris:20250823T090000
DTEND;TZID=Europe/Paris:20250823T151500
DTSTAMP:20260422T124639
CREATED:20250721T202218Z
LAST-MODIFIED:20250821T203136Z
UID:1197-1755939600-1755962100@kycdp.be
SUMMARY:Vrije wedstrijd gaat zeker door!
DESCRIPTION:Update van wedstrijdverantwoordelijke Hans op  21 augustus 22 uur.  \nHallo iedereen\, \n  \nNa rijp beraad met de voorzitter en onze specialisten YCDP de ploatevisschers is de kogel door de kerk  : de wedstrijd gaat nu zaterdag door. \n  \nOpgelet : start wedstrijd om 9u vanop laagwaterlijn en terug op de hoogwaterlijn om 15u15 \n  \nVoorspellingen : Zaterdag is het wisselend en soms zwaarbewolkt. Een klein buitje blijft mogelijk. In de namiddag meer opklaringen. \nMaxima rond 19°C. Matige wind (3-4) uit N\, later 4-5 NO. Golven 60 cm onder de kust\, 70 cm verder uit de kust\,  in de namiddag oplopend naar 90 cm maar dan zijn we al terug op het strand. \n  \nSucces aan alle kapiteinen en medevissers.  Zorg goed voor elkaar en volg de regels van de kapitein ! \n  \nWat mogen we van vis verwachten : de meest aanwezige vissen momenteel zijn de gladde haaien (meest voorkomende haai in de Zuidelijke Noordzee die leeft van krabbetjes\, garnalen en strandaas dus een bodemgrazer)  en natuurlijk de zeebaars.  Bijvangsten onder de kant zijn de bot en verder op zee de grote pieterman. \nWie de roep van de zee niet voelt\, is geen echte zeeman.    \nFijne avond en tot de volgende\, \nHans \n  \n  \nBeste leden en sympathisanten\, \nGraag nodigen wij jullie uit op de vrije wedstrijd op zaterdag 23  augustus van 9u. tot 15u.15. De inschrijvingen (7 €/persoon) gebeuren vanaf 7u. in ons clublokaal.  Een heerlijk koffietje  staat op je te wachten 😊. \nGelieve aandachtig het reglement te lezen want deze verschilt grondig van de andere wedstrijden. \nReglement \n  \n\nEr wordt gevist met maximaal 6 hengels en 3 haken per hengel.   De visstek is vrij te kiezen.   Hou wel rekening met het feit dat in Frankrijk max. 12 haken zijn toegelaten.\nAlleen het gewicht van de vis telt voor het klassement\, deze wedstrijd telt niet mee voor het clubkampioenschap.\nAlle vissen moeten voldoen aan de wettelijke minimummaat; vissen die niet vermeld staan op de lijst minimummaten moeten voldoen aan de clubmaat = 20 cm.\nEr  mag met alle soorten aas gevist worden; ook kunstaas is toegelaten. Een pudder is verboden op straffe van declassering.\nEr mogen maximum 2 zeebaarzen per persoon meegenomen worden met een minimum lengte van 42 cm.\nMakreel\, horsmakreel (!) en pieterman tellen niet mee en mogen niet bij de weging aangeboden worden.\nWe verzamelen een 100-tal meter voor de laagwaterlijn en vertrekken om 9 uur NA het signaal van de wedstrijdverantwoordelijke. Ten laatste om 15u. ligt men terug aan de waterlijn met de boot.\nEen belegd broodje en een drankje is voorzien voor elke opvarende.\n\n 
URL:https://kycdp.be/event/vrije-wedstrijd/
LOCATION:De Rampe
ORGANIZER;CN="KYCDP":MAILTO:info@KYCDP.be
END:VEVENT
BEGIN:VEVENT
DTSTART;TZID=Europe/Paris:20250823T183000
DTEND;TZID=Europe/Paris:20250823T233000
DTSTAMP:20260422T124639
CREATED:20250721T203105Z
LAST-MODIFIED:20250731T092654Z
UID:1201-1755973800-1755991800@kycdp.be
SUMMARY:Zwientje aan 't spit
DESCRIPTION:VOORAF: vrije viswedstrijd van 09u30 tot 15u30: zie aparte uitnodiging \n  \nEetfestijn vanaf 18h00 aperitief\, eten vanaf 19h00. \nZwijntje aan het spit\, groentenbuffet\, sausjes\, pasta en aardappelen. \nPrijs: 25 euro p/p\, kinderen tot 12 jaar 15 euro. \nLeden krijgen een aperitief aangeboden door de club. \nPlace to be: Tent aan clublokaal aan de Rampe \nMuzikale omlijsting: DJ Bruno \nInschrijven: voor 18 augustus door overschrijving op rek nr. BE30 2800 4979 7211 met vermelding van \naantal leden  / niet leden. Of via mail naar info@kycdp.be \nContactpersoon : bestuurslid Walter Peelman 0478/214395 \nWij hopen op een talrijke opkomst ! \nPS: indien de  viswedstrijd door omstandigheden afgelast wordt gaat het eetfestijn wel door !
URL:https://kycdp.be/event/zwientje-aan-t-spit/
LOCATION:De Rampe
ORGANIZER;CN="KYCDP":MAILTO:info@KYCDP.be
END:VEVENT
END:VCALENDAR