BEGIN:VCALENDAR
VERSION:2.0
PRODID:-//Koninklijke Yachting Club De Panne - ECPv6.15.13.1//NONSGML v1.0//EN
CALSCALE:GREGORIAN
METHOD:PUBLISH
X-ORIGINAL-URL:https://kycdp.be
X-WR-CALDESC:Events voor Koninklijke Yachting Club De Panne
REFRESH-INTERVAL;VALUE=DURATION:PT1H
X-Robots-Tag:noindex
X-PUBLISHED-TTL:PT1H
BEGIN:VTIMEZONE
TZID:Europe/Paris
BEGIN:DAYLIGHT
TZOFFSETFROM:+0100
TZOFFSETTO:+0200
TZNAME:CEST
DTSTART:20240331T010000
END:DAYLIGHT
BEGIN:STANDARD
TZOFFSETFROM:+0200
TZOFFSETTO:+0100
TZNAME:CET
DTSTART:20241027T010000
END:STANDARD
BEGIN:DAYLIGHT
TZOFFSETFROM:+0100
TZOFFSETTO:+0200
TZNAME:CEST
DTSTART:20250330T010000
END:DAYLIGHT
BEGIN:STANDARD
TZOFFSETFROM:+0200
TZOFFSETTO:+0100
TZNAME:CET
DTSTART:20251026T010000
END:STANDARD
BEGIN:DAYLIGHT
TZOFFSETFROM:+0100
TZOFFSETTO:+0200
TZNAME:CEST
DTSTART:20260329T010000
END:DAYLIGHT
BEGIN:STANDARD
TZOFFSETFROM:+0200
TZOFFSETTO:+0100
TZNAME:CET
DTSTART:20261025T010000
END:STANDARD
END:VTIMEZONE
BEGIN:VEVENT
DTSTART;VALUE=DATE:20250927
DTEND;VALUE=DATE:20250928
DTSTAMP:20260420T113027
CREATED:20240211T111318Z
LAST-MODIFIED:20250922T072129Z
UID:846-1758931200-1759017599@kycdp.be
SUMMARY:Garnaalwedstrijd OPEN WEDSTRIJD - iedereen welkom!
DESCRIPTION:Programma \n  \n\n08.00: inschrijvingen voor de boten\n08.30: inschrijvingen van de garnaalkruiers te voet\n09.15: start van de wedstrijd voor de boten\n09.45: start van de wedstrijd voor de garnaalkruiers te voet\n11.12: laag water\n11.15: einde van de wedstrijd voor de garnaalkruiers te voet\n11.45: einde van de wedstrijd voor de boten: liggen terug aan de laagwaterlijn\n12.00u: weging van de GOED GEZEEFDE zuivere vangst: gezuiverd van wier\, zand\, krabben en visjes\nKoken van de vangsten en mogelijkheid om eigen vangst mee te nemen naar huis\nUitleg over de vangsten aan de geïnteresseerde bezoekers\nAansluitend: prijsuitreiking met naturaprijs voor iedereen\nPERMANENT: cafetaria\, gelegenheid tot een drankje en een heerlijke garnaalkroket\n\nDeelnameprijs: 7\,00 € per persoon – gratis voor kinderen tot 12 jaar – TER PLAATSE TE BETALEN ( voorkeur CASH – alternatief PAYCONIC) \nInschrijven:  VOORAF. Ten laatste tegen woensdag 24 september 12u : via mail:  info@kycdp.be \nPraktische afspraken \n\nIedereen brengt zijn eigen visgerief mee. Heb je een kruiersnet met of zonder de boot\, misschien een steeknet(je) voor de kinderen\, maak je dan vrij en kom af naar de Rampe! Een ideale gezinsactiviteit!\nVeiligheid boven alles: boten zijn super waakzaam voor voetgangers; voetgangers zijn super alert voor boten.\n De club heeft enkele visnetten voor kinderen gratis ter beschikking.\n Oppassen voor pietermannen: zeer pijnlijke steken\n De focus ligt op gemoedelijkheid en vriendschap\, amusement en gezinsvriendelijkheid. Deelnemen is belangrijker dan winnen. \nEr is gratis parkeergelegenheid op het Bortierplein\, aanpalend aan de Rampe\, en eventueel in de aanpalende straten op voorwaarde dat er op een duidelijk zichtbare plaats aan de voorruit van de wagen een parkeerkaart 2025 (!) van de club ligt. Vraag gerust zulke kaart aan het bestuur in het clublokaal de dag zelf. De organisatie zal nooit retributiebonnen terugbetalen.\n DE CLUB IS NIET VERANTWOORDELIJK VOOR GEBEURLIJKE ONGEVALLEN EN DIEFSTALLEN.\n\n 
URL:https://kycdp.be/event/garnaalwedstrijd-2/
LOCATION:De Rampe
ORGANIZER;CN="KYCDP":MAILTO:info@KYCDP.be
END:VEVENT
END:VCALENDAR