BEGIN:VCALENDAR
VERSION:2.0
PRODID:-//Koninklijke Yachting Club De Panne - ECPv6.15.13.1//NONSGML v1.0//EN
CALSCALE:GREGORIAN
METHOD:PUBLISH
X-WR-CALNAME:Koninklijke Yachting Club De Panne
X-ORIGINAL-URL:https://kycdp.be
X-WR-CALDESC:Events voor Koninklijke Yachting Club De Panne
REFRESH-INTERVAL;VALUE=DURATION:PT1H
X-Robots-Tag:noindex
X-PUBLISHED-TTL:PT1H
BEGIN:VTIMEZONE
TZID:Europe/Paris
BEGIN:DAYLIGHT
TZOFFSETFROM:+0100
TZOFFSETTO:+0200
TZNAME:CEST
DTSTART:20250330T010000
END:DAYLIGHT
BEGIN:STANDARD
TZOFFSETFROM:+0200
TZOFFSETTO:+0100
TZNAME:CET
DTSTART:20251026T010000
END:STANDARD
BEGIN:DAYLIGHT
TZOFFSETFROM:+0100
TZOFFSETTO:+0200
TZNAME:CEST
DTSTART:20260329T010000
END:DAYLIGHT
BEGIN:STANDARD
TZOFFSETFROM:+0200
TZOFFSETTO:+0100
TZNAME:CET
DTSTART:20261025T010000
END:STANDARD
BEGIN:DAYLIGHT
TZOFFSETFROM:+0100
TZOFFSETTO:+0200
TZNAME:CEST
DTSTART:20270328T010000
END:DAYLIGHT
BEGIN:STANDARD
TZOFFSETFROM:+0200
TZOFFSETTO:+0100
TZNAME:CET
DTSTART:20271031T010000
END:STANDARD
END:VTIMEZONE
BEGIN:VEVENT
DTSTART;TZID=Europe/Paris:20260307T180000
DTEND;TZID=Europe/Paris:20260307T235900
DTSTAMP:20260420T014948
CREATED:20260217T175308Z
LAST-MODIFIED:20260217T175559Z
UID:1376-1772906400-1772927940@kycdp.be
SUMMARY:Dankfeestje kerstdorp 2025 - 2026
DESCRIPTION:Uitnodiging dankfeestje kerstdorp 2025/2026 \nWanneer: Zaterdag 07 maart vanaf 18u00 \nWaar: Clublokaal aan de Rampe. \nTijdens de jaarwisseling stond onze vereniging terug als vaste waarde in het kerstdorp van De Panne. De opbrengst hiervan dient om de kosten van KYCDP te helpen dragen. \nHet bestuur is iedereen heel erg dankbaar die meehielp in de Chalet en nodigt hen dan ook graag uit voor het  jaarlijks dankfeestje. \nDit jaar gaan we voor: \n*Aperitief \n*Vlaamse stoverijen met kroketten en salad bar. \n( alternatief vol au vent ) \n*Koffie \n  \nMedewerkers chalet Kycdp : gratis \nSympathisanten 15euro. \nInschrijven voor 04 maart via: info@Kycdp.be \nMet vermelding aantal personen en keuze hoofdschotel \nOf telefonisch Delaere Patrick 0486/442218 \nBetaling op rek nr BE30 2800 4979 7211
URL:https://kycdp.be/event/dankfeestje-kerstdorp-2025-2026/
LOCATION:clublokaal\, Bortierplein\, De Panne\, 8660\, Belgium
ORGANIZER;CN="KYCDP":MAILTO:info@KYCDP.be
END:VEVENT
BEGIN:VEVENT
DTSTART;TZID=Europe/Paris:20260328T080000
DTEND;TZID=Europe/Paris:20260328T170000
DTSTAMP:20260420T014948
CREATED:20260217T175908Z
LAST-MODIFIED:20260217T175923Z
UID:1378-1774684800-1774717200@kycdp.be
SUMMARY:Deelname aan zwerfvuilophaalactie
DESCRIPTION:
URL:https://kycdp.be/event/deelname-aan-zwerfvuilophaalactie/
LOCATION:De Rampe
ORGANIZER;CN="KYCDP":MAILTO:info@KYCDP.be
END:VEVENT
END:VCALENDAR